BEGIN:VCALENDAR
VERSION:2.0
PRODID:-//KBFT - ECPv6.15.20//NONSGML v1.0//EN
CALSCALE:GREGORIAN
METHOD:PUBLISH
X-WR-CALNAME:KBFT
X-ORIGINAL-URL:https://kbft.org
X-WR-CALDESC:Events for KBFT
REFRESH-INTERVAL;VALUE=DURATION:PT1H
X-Robots-Tag:noindex
X-PUBLISHED-TTL:PT1H
BEGIN:VTIMEZONE
TZID:America/Chicago
BEGIN:DAYLIGHT
TZOFFSETFROM:-0600
TZOFFSETTO:-0500
TZNAME:CDT
DTSTART:20250309T080000
END:DAYLIGHT
BEGIN:STANDARD
TZOFFSETFROM:-0500
TZOFFSETTO:-0600
TZNAME:CST
DTSTART:20251102T070000
END:STANDARD
BEGIN:DAYLIGHT
TZOFFSETFROM:-0600
TZOFFSETTO:-0500
TZNAME:CDT
DTSTART:20260308T080000
END:DAYLIGHT
BEGIN:STANDARD
TZOFFSETFROM:-0500
TZOFFSETTO:-0600
TZNAME:CST
DTSTART:20261101T070000
END:STANDARD
BEGIN:DAYLIGHT
TZOFFSETFROM:-0600
TZOFFSETTO:-0500
TZNAME:CDT
DTSTART:20270314T080000
END:DAYLIGHT
BEGIN:STANDARD
TZOFFSETFROM:-0500
TZOFFSETTO:-0600
TZNAME:CST
DTSTART:20271107T070000
END:STANDARD
END:VTIMEZONE
BEGIN:VEVENT
DTSTART;TZID=America/Chicago:20260216T080000
DTEND;TZID=America/Chicago:20260525T170000
DTSTAMP:20260423T052305
CREATED:20251205T194855Z
LAST-MODIFIED:20260216T060615Z
UID:23340-1771228800-1779728400@kbft.org
SUMMARY:Free Financial Education
DESCRIPTION:Free Financial Education \nby Appointment Only \nCall (218) 279-3203
URL:https://kbft.org/event/free-financial-education/
LOCATION:By Appointment
CATEGORIES:- Community
ATTACH;FMTTYPE=image/png:https://kbft.org/wp-lib/wp-content/uploads/2025/12/thumbnail_image009-2.png
END:VEVENT
BEGIN:VEVENT
DTSTART;TZID=America/Chicago:20260227T130000
DTEND;TZID=America/Chicago:20261211T150000
DTSTAMP:20260423T052305
CREATED:20260216T173208Z
LAST-MODIFIED:20260216T173208Z
UID:24918-1772197200-1797001200@kbft.org
SUMMARY:Bois Forte Band Members
DESCRIPTION:Please come join the conversation! \nMN Chippewa Tribe Constitution Education & Reform \nMonthly meetings in person or online
URL:https://kbft.org/event/bois-forte-band-members/
LOCATION:Bois Forte Heritage Center\, 1500 Bois Forte Rd.\, Tower\, MN\, 55790
CATEGORIES:- Community
ATTACH;FMTTYPE=image/jpeg:https://kbft.org/wp-lib/wp-content/uploads/2026/02/IMG_20260216_102742.jpg
END:VEVENT
BEGIN:VEVENT
DTSTART;VALUE=DATE:20260324
DTEND;VALUE=DATE:20260701
DTSTAMP:20260423T052305
CREATED:20260324T165831Z
LAST-MODIFIED:20260324T165831Z
UID:25579-1774310400-1782863999@kbft.org
SUMMARY:The Benner Show
DESCRIPTION:Coming Back! April 6th\, 2026 \nMonday – Friday \n7-9am  1-3pm
URL:https://kbft.org/event/the-benner-show/
LOCATION:KBFT Studios\, 13090 Westley Drive\, Nett Lake\, MN\, 55772
CATEGORIES:- KBFT
ATTACH;FMTTYPE=image/png:https://kbft.org/wp-lib/wp-content/uploads/2026/03/Copy-of-Flyer-Template-5-x-4.875-in.png
END:VEVENT
BEGIN:VEVENT
DTSTART;TZID=America/Chicago:20260325T173000
DTEND;TZID=America/Chicago:20260923T183000
DTSTAMP:20260423T052305
CREATED:20260216T064847Z
LAST-MODIFIED:20260216T064847Z
UID:24900-1774459800-1790188200@kbft.org
SUMMARY:Garden Club - Nett Lake
DESCRIPTION:Once a month in Nett Lake & Vermilion \nMarch 25th to September 23rd \n5:30pm
URL:https://kbft.org/event/garden-club-nett-lake/
LOCATION:Bois Forte ENP building\, 5322 St. Mary's Drive\, Nett Lake\, MN\, 55772\, United States
CATEGORIES:- Community
ATTACH;FMTTYPE=image/png:https://kbft.org/wp-lib/wp-content/uploads/2026/02/GardClub.png
ORGANIZER;CN="Bois Forte Food Soverignty Program":MAILTO:amber.harmon@boisforrte-nsn.gov
END:VEVENT
BEGIN:VEVENT
DTSTART;TZID=America/Chicago:20260325T173000
DTEND;TZID=America/Chicago:20260923T183000
DTSTAMP:20260423T052305
CREATED:20260216T070431Z
LAST-MODIFIED:20260216T070431Z
UID:24903-1774459800-1790188200@kbft.org
SUMMARY:Garden Club - Vermilion
DESCRIPTION:Once a month in Nett Lake & Vermilion \nMarch 25th – September 23rd \n5:3opm
URL:https://kbft.org/event/garden-club-vermilion/
LOCATION:Vermilion Social Center
CATEGORIES:- Community
ATTACH;FMTTYPE=image/png:https://kbft.org/wp-lib/wp-content/uploads/2026/02/GardClub.png
ORGANIZER;CN="Bois Forte Food Soverignty Program":MAILTO:amber.harmon@boisforrte-nsn.gov
END:VEVENT
BEGIN:VEVENT
DTSTART;TZID=America/Chicago:20260413T073000
DTEND;TZID=America/Chicago:20260515T153000
DTSTAMP:20260423T052305
CREATED:20260328T151521Z
LAST-MODIFIED:20260328T151521Z
UID:25680-1776065400-1778859000@kbft.org
SUMMARY:TRIBAL TRAINING-HIGHWAY CARPENTER
DESCRIPTION:April 13 – May 15\, 2026 \nMonday – Friday\, 7:3oam – 3:30pm \n904 Paul Bunyan Drive SE  Bemidji\, MN 56601
URL:https://kbft.org/event/tribal-training-highway-carpenter/
LOCATION:Highway Carpenter\, 904 Paul Bunyan Drive SE\, Bemidji\, MN\, 56601\, United States
CATEGORIES:- Community
ATTACH;FMTTYPE=image/jpeg:https://kbft.org/wp-lib/wp-content/uploads/2026/03/IMG_20260328_084406.jpg
END:VEVENT
BEGIN:VEVENT
DTSTART;TZID=America/Chicago:20260423T090000
DTEND;TZID=America/Chicago:20260423T120000
DTSTAMP:20260423T052305
CREATED:20260328T152845Z
LAST-MODIFIED:20260328T152845Z
UID:25685-1776934800-1776945600@kbft.org
SUMMARY:Candlelight Vigil in Nett Lake
DESCRIPTION:APRIL 23rd 2026 \nNett Lake 9:00am – 12:00pm \nBois Forte Family Health Services
URL:https://kbft.org/event/candlelight-vigil-in-nett-lake/
LOCATION:MN
CATEGORIES:- Community
ATTACH;FMTTYPE=image/jpeg:https://kbft.org/wp-lib/wp-content/uploads/2026/03/IMG_20260328_084416.jpg
END:VEVENT
BEGIN:VEVENT
DTSTART;TZID=America/Chicago:20260423T133000
DTEND;TZID=America/Chicago:20260423T163000
DTSTAMP:20260423T052305
CREATED:20260328T153631Z
LAST-MODIFIED:20260328T153631Z
UID:25688-1776951000-1776961800@kbft.org
SUMMARY:Candlelight Vigil in Vermilion
DESCRIPTION:April 23rd 2026 \nVermilion Social Center \n1:30pm – 4:30pm
URL:https://kbft.org/event/candlelight-vigil-in-vermilion/
LOCATION:Vermilion Social Center
CATEGORIES:- Community
ATTACH;FMTTYPE=image/jpeg:https://kbft.org/wp-lib/wp-content/uploads/2026/03/IMG_20260328_084416.jpg
END:VEVENT
END:VCALENDAR