BEGIN:VCALENDAR
VERSION:2.0
PRODID:-//KBFT - ECPv6.15.20//NONSGML v1.0//EN
CALSCALE:GREGORIAN
METHOD:PUBLISH
X-WR-CALNAME:KBFT
X-ORIGINAL-URL:https://kbft.org
X-WR-CALDESC:Events for KBFT
REFRESH-INTERVAL;VALUE=DURATION:PT1H
X-Robots-Tag:noindex
X-PUBLISHED-TTL:PT1H
BEGIN:VTIMEZONE
TZID:America/Chicago
BEGIN:DAYLIGHT
TZOFFSETFROM:-0600
TZOFFSETTO:-0500
TZNAME:CDT
DTSTART:20230312T080000
END:DAYLIGHT
BEGIN:STANDARD
TZOFFSETFROM:-0500
TZOFFSETTO:-0600
TZNAME:CST
DTSTART:20231105T070000
END:STANDARD
BEGIN:DAYLIGHT
TZOFFSETFROM:-0600
TZOFFSETTO:-0500
TZNAME:CDT
DTSTART:20240310T080000
END:DAYLIGHT
BEGIN:STANDARD
TZOFFSETFROM:-0500
TZOFFSETTO:-0600
TZNAME:CST
DTSTART:20241103T070000
END:STANDARD
BEGIN:DAYLIGHT
TZOFFSETFROM:-0600
TZOFFSETTO:-0500
TZNAME:CDT
DTSTART:20250309T080000
END:DAYLIGHT
BEGIN:STANDARD
TZOFFSETFROM:-0500
TZOFFSETTO:-0600
TZNAME:CST
DTSTART:20251102T070000
END:STANDARD
END:VTIMEZONE
BEGIN:VEVENT
DTSTART;TZID=America/Chicago:20240215T173000
DTEND;TZID=America/Chicago:20240215T183000
DTSTAMP:20260422T124141
CREATED:20240122T192812Z
LAST-MODIFIED:20240122T193331Z
UID:13618-1708018200-1708021800@kbft.org
SUMMARY:Comedy Night  - with Ron Kanutski
DESCRIPTION:
URL:https://kbft.org/event/comedy-night-with-ron-kanutski/
LOCATION:Bois Forte Tribal Government Building\, 5344 Lake Shore Dr.\, Nett Lake\, MN\, 55772\, United States
CATEGORIES:- KBFT
ATTACH;FMTTYPE=image/jpeg:https://kbft.org/wp-lib/wp-content/uploads/2024/01/ron-kanutski-4.jpg
END:VEVENT
END:VCALENDAR