BEGIN:VCALENDAR
VERSION:2.0
PRODID:-//KBFT - ECPv6.15.20//NONSGML v1.0//EN
CALSCALE:GREGORIAN
METHOD:PUBLISH
X-ORIGINAL-URL:https://kbft.org
X-WR-CALDESC:Events for KBFT
REFRESH-INTERVAL;VALUE=DURATION:PT1H
X-Robots-Tag:noindex
X-PUBLISHED-TTL:PT1H
BEGIN:VTIMEZONE
TZID:America/Chicago
BEGIN:DAYLIGHT
TZOFFSETFROM:-0600
TZOFFSETTO:-0500
TZNAME:CDT
DTSTART:20230312T080000
END:DAYLIGHT
BEGIN:STANDARD
TZOFFSETFROM:-0500
TZOFFSETTO:-0600
TZNAME:CST
DTSTART:20231105T070000
END:STANDARD
BEGIN:DAYLIGHT
TZOFFSETFROM:-0600
TZOFFSETTO:-0500
TZNAME:CDT
DTSTART:20240310T080000
END:DAYLIGHT
BEGIN:STANDARD
TZOFFSETFROM:-0500
TZOFFSETTO:-0600
TZNAME:CST
DTSTART:20241103T070000
END:STANDARD
BEGIN:DAYLIGHT
TZOFFSETFROM:-0600
TZOFFSETTO:-0500
TZNAME:CDT
DTSTART:20250309T080000
END:DAYLIGHT
BEGIN:STANDARD
TZOFFSETFROM:-0500
TZOFFSETTO:-0600
TZNAME:CST
DTSTART:20251102T070000
END:STANDARD
END:VTIMEZONE
BEGIN:VEVENT
DTSTART;TZID=America/Chicago:20240510T173000
DTEND;TZID=America/Chicago:20240510T200000
DTSTAMP:20260422T075128
CREATED:20240430T200139Z
LAST-MODIFIED:20240502T133230Z
UID:14158-1715362200-1715371200@kbft.org
SUMMARY:Ancestral Embers Rock and Blues Contert featuring Corey Medina & Brother and Pretendians Band
DESCRIPTION:Ro
URL:https://kbft.org/event/blues-and-rock-the-clyde-iron-ft-corey-medina-brothers-and-the-pretendians/
LOCATION:Clyde Iron Works\, 2920 W Michigan St\, Duluth\, 55806
CATEGORIES:- KBFT
ATTACH;FMTTYPE=image/png:https://kbft.org/wp-lib/wp-content/uploads/2024/04/Corey-medina-Brothers-and-THe-pretendians-5.png
END:VEVENT
END:VCALENDAR