BEGIN:VCALENDAR
VERSION:2.0
PRODID:-//KBFT - ECPv6.15.20//NONSGML v1.0//EN
CALSCALE:GREGORIAN
METHOD:PUBLISH
X-ORIGINAL-URL:https://kbft.org
X-WR-CALDESC:Events for KBFT
REFRESH-INTERVAL;VALUE=DURATION:PT1H
X-Robots-Tag:noindex
X-PUBLISHED-TTL:PT1H
BEGIN:VTIMEZONE
TZID:America/Chicago
BEGIN:DAYLIGHT
TZOFFSETFROM:-0600
TZOFFSETTO:-0500
TZNAME:CDT
DTSTART:20240310T080000
END:DAYLIGHT
BEGIN:STANDARD
TZOFFSETFROM:-0500
TZOFFSETTO:-0600
TZNAME:CST
DTSTART:20241103T070000
END:STANDARD
BEGIN:DAYLIGHT
TZOFFSETFROM:-0600
TZOFFSETTO:-0500
TZNAME:CDT
DTSTART:20250309T080000
END:DAYLIGHT
BEGIN:STANDARD
TZOFFSETFROM:-0500
TZOFFSETTO:-0600
TZNAME:CST
DTSTART:20251102T070000
END:STANDARD
BEGIN:DAYLIGHT
TZOFFSETFROM:-0600
TZOFFSETTO:-0500
TZNAME:CDT
DTSTART:20260308T080000
END:DAYLIGHT
BEGIN:STANDARD
TZOFFSETFROM:-0500
TZOFFSETTO:-0600
TZNAME:CST
DTSTART:20261101T070000
END:STANDARD
BEGIN:DAYLIGHT
TZOFFSETFROM:-0600
TZOFFSETTO:-0500
TZNAME:CDT
DTSTART:20270314T080000
END:DAYLIGHT
BEGIN:STANDARD
TZOFFSETFROM:-0500
TZOFFSETTO:-0600
TZNAME:CST
DTSTART:20271107T070000
END:STANDARD
END:VTIMEZONE
BEGIN:VEVENT
DTSTART;TZID=America/Chicago:20250709T110000
DTEND;TZID=America/Chicago:20250709T190000
DTSTAMP:20260423T153246
CREATED:20250707T200813Z
LAST-MODIFIED:20250707T201133Z
UID:20069-1752058800-1752087600@kbft.org
SUMMARY:KBFT's 14th Anniversary Celebration!
DESCRIPTION:Join us for Music\, Food and Family Fun outdoors in Beautiful Nett Lake\, Minnesota.  KBFT 89.9FM has been serving the community of Nett Lake and the Bois Forte Tribal membership for 14 years.  Reclaiming the sovereign airwave of the Bois Forte Band of Chippewa since June 8th\, 2011 at exactly 4:03pm.  Since then it has been a growing experience in meeting challenges on many fronts to maintain a continuous 24 hour\, 365 day a year operation.  Of course KBFT features music\, community updates\, and programming of interest to our Native American population.  KBFT’s mission has been to share a glimpse of our community interests with our neighbors near and far while maintaining a link to our families and relatives all over the world through our online streaming service.  When you listen to KBFT you are listening to Native America.  We are proud of our people\, our customs\, traditions and hold precious knowledge handed down and  given by our elders.  In today’s world we are faced with challenges and choices that will define our community and it is KBFT’s mission to assist in sharing this knowledge while we progress and make a way forward for generations yet to come.  We invite you as listeners and supporters to learn more about what we do here at KBFT and the outreach we do as part of building community.
URL:https://kbft.org/event/kbfts-14th-anniversary-celebration-2/
LOCATION:KBFT Bois Forte Tribal Community Radio\, 13090 Westley Drive\, Nett Lake\, MN\, 55772
CATEGORIES:- Community,- KBFT
END:VEVENT
BEGIN:VEVENT
DTSTART;TZID=America/Chicago:20251112T170000
DTEND;TZID=America/Chicago:20251112T190000
DTSTAMP:20260423T153246
CREATED:20251029T170648Z
LAST-MODIFIED:20251108T175313Z
UID:22386-1762966800-1762974000@kbft.org
SUMMARY:Finding Hozho Film Screening and Film maker presentation
DESCRIPTION:Bois Forte premier of Finding Hozho with Filmaker Travis Holt-Hamiltion \n🎬 Finding Hozho—Northern Minnesota’s own premiere screening of Holt Hamilton’s latest film—invites you to an evening of reflection\, connection\, and community. Join us November 12th from 5–7pm in the Eagle Room at the Tribal Government Building for this powerful story of forgiveness and cultural resilience. Meet director Holt Hamilton in person\, enjoy light food and snacks\, and celebrate Native storytelling with KBFT 89.9 FM\, Bois Forte Tribal Radio.
URL:https://kbft.org/event/finding-hozho-film-screening-and-film-maker-presentation/
LOCATION:Eagle Room – Bois Forte Tribal Government Building\, 5344 Lakeshore Drive\, Nett Lake\, MN\, 55772
CATEGORIES:- Community,- KBFT
ATTACH;FMTTYPE=image/jpeg:https://kbft.org/wp-lib/wp-content/uploads/2025/10/att.EXDevNbWwM9BfMPkKR88tsbXYQn89LGYjCfcoP0a1eY.jpg
END:VEVENT
BEGIN:VEVENT
DTSTART;VALUE=DATE:20251120
DTEND;VALUE=DATE:20251124
DTSTAMP:20260423T153246
CREATED:20251120T155256Z
LAST-MODIFIED:20251120T161251Z
UID:22983-1763596800-1763942399@kbft.org
SUMMARY:Rangers Fall 2025 Minnesota Tour featuring Keith Secola
DESCRIPTION:🎶 Celebrate Native American Heritage Month with Rangers! 🎶\n  \nThis November\, join Rangers featuring the acclaimed Keith Secola for their Fall 2025 Minnesota Tour\, celebrating National Native American Heritage Month. Don’t miss this opportunity to see an incredible lineup of featured artists across four cities! \nRangers will be launching the debut of their brand new CD titled “Rangers”.  A collaboration featuring nine songwriters from the Iron Range of northern Minnesota\, the project was produced by 7-time Native American Music Award Winner Keith Secola and recorded by Rich Mattson at his lauded studio in Sparta\, MN\, where artists like Trampled By Turtles\, Dan Israel and Martin Devaney have recorded. Mixing the country\, blues\, rock and Indigenous music you might encounter in the North Country\, the album features songs from nine different songwriters with various singers trading off on lead vocals and various instruments. Opening with Tim Wright’s fun radio-friendly “Want You Back” the album travels through sweet and sad stories\, ending with the moving closing spoken word track “The Moment.” The songs are rooted in history but speak to life in the Iron Range today\, full of joy and struggle. \n \n🗓️ Tour Dates & Locations\n  \n\n\n\nDate\nCity\nVenue\nAddress\nDoors/Show Time\n\n\n\n\nNov 20\nVirginia\nC.H.A.I.R.\n510 Chestnut Street\, Virginia\, MN 55792\nDoors 6:00pm – Show 7:00 to 10:00pm\n\n\nNov 21\nMinneapolis\nHook & Ladder\n3010 Minnehaha Avenue\, Minneapolis\, MN 55406\nDoors 7:00pm – Show 8:00 to 11:00pm\n\n\nNov 22\nSt Cloud\nSt Cloud State Atwood Memorial Center\n651 1st Avenue S\, St Cloud\, MN 56301\nDoors 7:00pm – Show 7:30 to 9:30pm\n\n\nNov 23\nDuluth\nWest Theatre\n319 North Central Avenue\, Duluth\, MN 55807\nDoors 6:00pm – Show 7:00pm\n\n\n\n\n✨ Featured Artists Include:\n  \nThe tour will showcase a wide range of talent\, including: \n\n\nKeith Secola \n\n\nRosemary Berens \n\n\nDan Boyer \n\n\nGermaine Gemberling \n\n\nSteve Martinetti \n\n\nRich Mattson \n\n\nJohn Metsa \n\n\nChris Petrack \n\n\nSharon Rowbottom \n\n\nTim Wright \n\n\n\nPresented by our sponsors: Clean Water Land & Legacy Amendment\, KBFT 89.9 FM\, and KBFT Radio & KBFT Records (Bois Forte Band of Chippewa Indians).
URL:https://kbft.org/event/rangers-fall-2025-minnesota-tour-featuring-keith-secola/
LOCATION:Virginia MN\, Minneapolis MN\, St. Cloud MN\, Duluth MN
CATEGORIES:- Community,- KBFT
ATTACH;FMTTYPE=image/jpeg:https://kbft.org/wp-lib/wp-content/uploads/2025/11/FULL-TOUR-POSTER-NNAHM.jpg
END:VEVENT
BEGIN:VEVENT
DTSTART;TZID=America/Chicago:20260130T190000
DTEND;TZID=America/Chicago:20260130T213000
DTSTAMP:20260423T153246
CREATED:20260129T185450Z
LAST-MODIFIED:20260129T185731Z
UID:24453-1769799600-1769808600@kbft.org
SUMMARY:Anishinaabemoin Hockey Night on KBFT
DESCRIPTION:Join us LIVE Friday night @ 7pm for a special sports broadcast of the Rock Ridge Wolverines Vs the Grand Rapids Thunderhawks Boys Hockey game right here on KBFT 89.9FM with play by play and commentary provided in the language of area’s original inhabitants – Anishinabemoin! \nStreaming available also at: \nhttps://www.KBFT.org/listen-live \nOn your iPhone with our KBFT Radio app: \nhttps://apps.apple.com/us/app/kbft-app/id1470979605 \nOn your Android device with our KBFT Radio app: \nhttps://play.google.com/store/apps/details?id=com.publicmediaapps.kbft&hl=en_US&gl=US
URL:https://kbft.org/event/anishinaabemoin-hockey-night-on-kbft/
LOCATION:Iron Trail Motors Event Center\, 919 6th Street South\, Virginia\, MN
CATEGORIES:- Community,- KBFT,Sports Schedule
ATTACH;FMTTYPE=image/jpeg:https://kbft.org/wp-lib/wp-content/uploads/2026/01/Hockey-Broadcast.jpg
END:VEVENT
BEGIN:VEVENT
DTSTART;VALUE=DATE:20260205
DTEND;VALUE=DATE:20260215
DTSTAMP:20260423T153246
CREATED:20260205T151901Z
LAST-MODIFIED:20260205T172516Z
UID:24686-1770249600-1771113599@kbft.org
SUMMARY:KBFT Valentine's Day - Love in the air
DESCRIPTION:Send a special Valentine’s Day message to your valentine on the February 14th.  $5 for your special acknowledgement.  Cupid can be reached at 218 410 4202.  Have fun and give a special shout out!
URL:https://kbft.org/event/kbft-valentines-day-love-in-the-air/
LOCATION:KBFT Bois Forte Tribal Community Radio\, 13090 Westley Drive\, Nett Lake\, MN\, 55772
CATEGORIES:- Community,- KBFT
ATTACH;FMTTYPE=image/png:https://kbft.org/wp-lib/wp-content/uploads/2026/02/KBFT-Valentines.png
END:VEVENT
BEGIN:VEVENT
DTSTART;VALUE=DATE:20260324
DTEND;VALUE=DATE:20260701
DTSTAMP:20260423T153246
CREATED:20260324T165831Z
LAST-MODIFIED:20260324T165831Z
UID:25579-1774310400-1782863999@kbft.org
SUMMARY:The Benner Show
DESCRIPTION:Coming Back! April 6th\, 2026 \nMonday – Friday \n7-9am  1-3pm
URL:https://kbft.org/event/the-benner-show/
LOCATION:KBFT Studios\, 13090 Westley Drive\, Nett Lake\, MN\, 55772
CATEGORIES:- KBFT
ATTACH;FMTTYPE=image/png:https://kbft.org/wp-lib/wp-content/uploads/2026/03/Copy-of-Flyer-Template-5-x-4.875-in.png
END:VEVENT
END:VCALENDAR